BEGIN:VCALENDAR
VERSION:2.0
PRODID:-//Bottipflanzen - Bio Kräutergärtnerei und Online Kräutershop - ECPv6.15.20//NONSGML v1.0//EN
CALSCALE:GREGORIAN
METHOD:PUBLISH
X-WR-CALNAME:Bottipflanzen - Bio Kräutergärtnerei und Online Kräutershop
X-ORIGINAL-URL:https://www.bottipflanzen.ch
X-WR-CALDESC:Veranstaltungen für Bottipflanzen - Bio Kräutergärtnerei und Online Kräutershop
REFRESH-INTERVAL;VALUE=DURATION:PT1H
X-Robots-Tag:noindex
X-PUBLISHED-TTL:PT1H
BEGIN:VTIMEZONE
TZID:Europe/Berlin
BEGIN:DAYLIGHT
TZOFFSETFROM:+0100
TZOFFSETTO:+0200
TZNAME:CEST
DTSTART:20250330T010000
END:DAYLIGHT
BEGIN:STANDARD
TZOFFSETFROM:+0200
TZOFFSETTO:+0100
TZNAME:CET
DTSTART:20251026T010000
END:STANDARD
BEGIN:DAYLIGHT
TZOFFSETFROM:+0100
TZOFFSETTO:+0200
TZNAME:CEST
DTSTART:20260329T010000
END:DAYLIGHT
BEGIN:STANDARD
TZOFFSETFROM:+0200
TZOFFSETTO:+0100
TZNAME:CET
DTSTART:20261025T010000
END:STANDARD
BEGIN:DAYLIGHT
TZOFFSETFROM:+0100
TZOFFSETTO:+0200
TZNAME:CEST
DTSTART:20270328T010000
END:DAYLIGHT
BEGIN:STANDARD
TZOFFSETFROM:+0200
TZOFFSETTO:+0100
TZNAME:CET
DTSTART:20271031T010000
END:STANDARD
END:VTIMEZONE
BEGIN:VEVENT
DTSTART;TZID=Europe/Berlin:20260502T080000
DTEND;TZID=Europe/Berlin:20260503T180000
DTSTAMP:20260419T155515
CREATED:20260330T195357Z
LAST-MODIFIED:20260330T195405Z
UID:7534-1777708800-1777831200@www.bottipflanzen.ch
SUMMARY:🌱 Gemüsesetzlinge und Kleintiere – Natur hautnah erleben 🐰
DESCRIPTION:🌱 Gemüsesetzlinge und Kleintiere – Natur hautnah erleben 🐰\n\n\n\nAm Wochenende vom 2. bis 3. Mai begrüssen wir Sie herzlich zu unserem traditionellen Gemüsesetzlingsverkauf mit Kleintieren in Stetten! Entdecken Sie eine grosse Vielfalt an kräftigen Gemüsesetzlingen für Ihren Garten – darunter Tomaten\, Chilis\, Auberginen\, Kürbisse\, Melonen\, Zucchini und vieles mehr! \n\n\n\nEin besonderes Highlight für Gross und Klein ist die Ausstellung verschiedenster Kleintiere\, bei der Besucher Kaninchen\, Meerschweinchen\, Hühner und weitere Tiere hautnah erleben können. Lernen Sie dabei Wissenswertes rund um Haltung und Pflege dieser liebenswerten Gartenbewohner. \n\n\n\nSelbstverständlich ist auch für das leibliche Wohl bestens gesorgt: Geniessen Sie leckere Speisen frisch vom Grill sowie erfrischende Getränke in entspannter Atmosphäre. \n\n\n\nBesuchen Sie unseren Gemüsesetzlingsverkauf\, lassen Sie sich von der einzigartigen Pflanzenvielfalt begeistern und erleben Sie mit der ganzen Familie einen entspannten Tag inmitten der Natur! \n\n\n\n📍 Wann: Samstag und Sonntag\, 02. – 03. Mai📍 Wo: Bottis Kräutergärtnerei\, Grabenmattenstrasse 18\, 5608 Stetten \n\n\n\nEin perfektes Wochenende für Gartenfreunde und Tierliebhaber!
URL:https://www.bottipflanzen.ch/event/%f0%9f%8c%b1-gemuesesetzlinge-und-kleintiere-natur-hautnah-erleben-%f0%9f%90%b0/
LOCATION:Bottis Kräutergärtnerei\, Grabenmattenstrasse 18\, Stetten\, AG\, 5608
ATTACH;FMTTYPE=image/jpeg:https://www.bottipflanzen.ch/wp-content/uploads/2024/02/misch-masch-bild-1-scaled.jpg
END:VEVENT
BEGIN:VEVENT
DTSTART;TZID=Europe/Berlin:20260509T080000
DTEND;TZID=Europe/Berlin:20260510T180000
DTSTAMP:20260419T155515
CREATED:20260330T200316Z
LAST-MODIFIED:20260330T200323Z
UID:7536-1778313600-1778436000@www.bottipflanzen.ch
SUMMARY:🌱 Gemüsesetzlinge am Muttertag 💐
DESCRIPTION:🌱 Gemüsesetzlinge am Muttertag 💐\n\n\n\nAm Wochenende vom 9. bis 10. Mai begrüssen wir Sie herzlich zu unserem traditionellen Gemüsesetzlingsverkauf am Muttertagswochenende in Stetten! Entdecken Sie eine grosse Vielfalt an kräftigen Gemüsesetzlingen für Ihren Garten – darunter Tomaten\, Chilis\, Auberginen\, Kürbisse\, Melonen\, Zucchini und vieles mehr! \n\n\n\nSelbstverständlich ist auch für das leibliche Wohl bestens gesorgt: Geniessen Sie leckere Speisen frisch vom Grill sowie erfrischende Getränke in entspannter Atmosphäre. \n\n\n\nBesuchen Sie uns am Muttertag \, lassen Sie sich von der einzigartigen Pflanzenvielfalt begeistern und erleben Sie mit der ganzen Familie einen entspannten Tag inmitten der Natur! \n\n\n\n📍 Wann: Samstag und Sonntag\, 09. – 10. Mai📍 Wo: Bottis Kräutergärtnerei\, Grabenmattenstrasse 18\, 5608 Stetten \n\n\n\nEin perfektes Wochenende für Gartenfreunde!
URL:https://www.bottipflanzen.ch/event/%f0%9f%8c%b1-gemuesesetzlinge-am-muttertag-%f0%9f%92%90/
LOCATION:Bottis Kräutergärtnerei\, Grabenmattenstrasse 18\, Stetten\, AG\, 5608
ATTACH;FMTTYPE=image/jpeg:https://www.bottipflanzen.ch/wp-content/uploads/2024/02/misch-masch-bild-1-scaled.jpg
END:VEVENT
BEGIN:VEVENT
DTSTART;TZID=Europe/Berlin:20260605T160000
DTEND;TZID=Europe/Berlin:20260607T180000
DTSTAMP:20260419T155515
CREATED:20260330T201741Z
LAST-MODIFIED:20260330T201748Z
UID:7538-1780675200-1780855200@www.bottipflanzen.ch
SUMMARY:🌿✨ Thai Food & Culture Fest in Bottis Kräutergärtnerei Stetten! 🇹🇭
DESCRIPTION:Bottis Thai Food & Culture Garden geht in die Verlängerung\n\n\n\nEntdecken Sie die bunte Welt Thailands mitten in der duftenden Atmosphäre von Bottis Kräutergärtnerei in Stetten! Genießen Sie authentische Thai-Küche\, frisch zubereitet mit exotischen Kräutern aus eigenem Anbau. Tauchen Sie ein in die faszinierende Kultur Thailands mit traditioneller Musik\, Tanz und herzlicher Gastfreundschaft. \n\n\n\nEin Tag voller Genuss\, Lebensfreude und aromatischer Vielfalt erwartet Sie! \n\n\n\n📅 Wann? 5. bis 7. Juni📍 Wo? Bottis Kräutergärtnerei\, Stetten \n\n\n\nWir freuen uns auf Ihren Besuch! 🌺🌶️
URL:https://www.bottipflanzen.ch/event/%f0%9f%8c%bf%e2%9c%a8-thai-food-culture-fest-in-bottis-kraeutergaertnerei-stetten-%f0%9f%87%b9%f0%9f%87%ad/
LOCATION:Bottis Kräutergärtnerei\, Grabenmattenstrasse 18\, Stetten\, AG\, 5608
ATTACH;FMTTYPE=image/jpeg:https://www.bottipflanzen.ch/wp-content/uploads/2021/06/IMG_8240-e1623768854276.jpeg
END:VEVENT
BEGIN:VEVENT
DTSTART;TZID=Europe/Berlin:20260613T093000
DTEND;TZID=Europe/Berlin:20260613T170000
DTSTAMP:20260419T155515
CREATED:20250207T193951Z
LAST-MODIFIED:20260330T212351Z
UID:6826-1781343000-1781370000@www.bottipflanzen.ch
SUMMARY:Kräuterkurs mit Führung
DESCRIPTION:Direkt Reservieren\n\n\n\n\n\n\nWir entführen Sie in die Welt der Küchen-\, Tee- und Heilkräuter rund um den Globus\, sowie Spezialitäten Gemüsesorten. \n\n\n\nWir verbringen den Vormittag mit einer Kräuterführung\, mit Kräuterkunde\, durch unsere Gärtnerei. Geführt durch Daniel Bottlang\, unser Gärtnermeister mit mehr als 30 Jahren Erfahrung in der Aufzucht\, Vermehrung und Anwendungsbereichen von Kräuter- und Heilpflanzen. \n\n\n\nDen Mittag verbringen wir mit einem leichten Mittagessen. Auch am Mittag bleiben wir dem Thema Kräuterkunde treu. Ein Kräutersalat\, frisch zubereitet mit Kräutern aus der Gärtnerei\, ergänzt unseren Mittag. \n\n\n\nAm Nachmittag starten wir in Gruppen mit verschiedenen kleinen “Workshops“. Begleitet werden die Workshops von unseren Experten Theo Keller und Daniel Bottlang. Jeder Teilnehmer kreiert selber viel Intressantes aus Kräutern: Kräutersirup\, Kräutersalbe\, Kräutergetränke\, Wildkräutersalat\, Kräutertinkturen\, Kräutersalze\, sein eigenes Hanföl und vieles mehr.
URL:https://www.bottipflanzen.ch/event/kraeuterkurs-mit-fuehrung/
LOCATION:Bottis Kräutergärtnerei\, Grabenmattenstrasse 18\, Stetten\, AG\, 5608
ATTACH;FMTTYPE=image/jpeg:https://www.bottipflanzen.ch/wp-content/uploads/2021/11/annie-spratt-XiWtCLWK5K8-unsplash-scaled.jpg
END:VEVENT
BEGIN:VEVENT
DTSTART;TZID=Europe/Berlin:20260620T093000
DTEND;TZID=Europe/Berlin:20260620T170000
DTSTAMP:20260419T155515
CREATED:20260330T212820Z
LAST-MODIFIED:20260330T212825Z
UID:7546-1781947800-1781974800@www.bottipflanzen.ch
SUMMARY:Kräuterkurs mit Führung
DESCRIPTION:Direkt Reservieren\n\n\n\n\n\n\nWir entführen Sie in die Welt der Küchen-\, Tee- und Heilkräuter rund um den Globus\, sowie Spezialitäten Gemüsesorten. \n\n\n\nWir verbringen den Vormittag mit einer Kräuterführung\, mit Kräuterkunde\, durch unsere Gärtnerei. Geführt durch Daniel Bottlang\, unser Gärtnermeister mit mehr als 30 Jahren Erfahrung in der Aufzucht\, Vermehrung und Anwendungsbereichen von Kräuter- und Heilpflanzen. \n\n\n\nDen Mittag verbringen wir mit einem leichten Mittagessen. Auch am Mittag bleiben wir dem Thema Kräuterkunde treu. Ein Kräutersalat\, frisch zubereitet mit Kräutern aus der Gärtnerei\, ergänzt unseren Mittag. \n\n\n\nAm Nachmittag starten wir in Gruppen mit verschiedenen kleinen “Workshops“. Begleitet werden die Workshops von unseren Experten Theo Keller und Daniel Bottlang. Jeder Teilnehmer kreiert selber viel Intressantes aus Kräutern: Kräutersirup\, Kräutersalbe\, Kräutergetränke\, Wildkräutersalat\, Kräutertinkturen\, Kräutersalze\, sein eigenes Hanföl und vieles mehr.
URL:https://www.bottipflanzen.ch/event/kraeuterkurs-mit-fuehrung-2/
LOCATION:Bottis Kräutergärtnerei\, Grabenmattenstrasse 18\, Stetten\, AG\, 5608
ATTACH;FMTTYPE=image/jpeg:https://www.bottipflanzen.ch/wp-content/uploads/2021/11/annie-spratt-XiWtCLWK5K8-unsplash-scaled.jpg
END:VEVENT
BEGIN:VEVENT
DTSTART;TZID=Europe/Berlin:20260626T080000
DTEND;TZID=Europe/Berlin:20260628T180000
DTSTAMP:20260419T155515
CREATED:20260330T202837Z
LAST-MODIFIED:20260330T203300Z
UID:7540-1782460800-1782669600@www.bottipflanzen.ch
SUMMARY:Kongress 2026
DESCRIPTION:Neue Wege in die Zukunft – Mit Einander \n\n\n\n\nNeue Wege in die Zukunft – mit einander\n\n\n\nNächster Kongress:26.06.2026 – 28.06.2026    \n\n\n\n\n\nWir dürfen Dir Top-Referenten aus folgenden Sparten präsentieren: \n\n\n\nMedizin\, Recht\, Wissenschaft\, Journalismus\, Politik\, Pharma\, Ernährung\, Human- und Tiermedizin! \n\n\n\nDie Vorträge finden am Samstag und Sonntag von 9:00 bis 18:00 Uhr statt.   \n\n\n\n\nSichere dir ein Ticket !
URL:https://www.bottipflanzen.ch/event/kongress-2026/
LOCATION:Bottis Kräutergärtnerei\, Grabenmattenstrasse 18\, Stetten\, AG\, 5608
ATTACH;FMTTYPE=image/jpeg:https://www.bottipflanzen.ch/wp-content/uploads/2024/08/photo_16_2023-01-15_22-07-56.jpg
END:VEVENT
BEGIN:VEVENT
DTSTART;TZID=Europe/Berlin:20260704T093000
DTEND;TZID=Europe/Berlin:20260704T170000
DTSTAMP:20260419T155515
CREATED:20260330T213221Z
LAST-MODIFIED:20260330T213225Z
UID:7548-1783157400-1783184400@www.bottipflanzen.ch
SUMMARY:Kräuterkurs mit Führung
DESCRIPTION:Direkt Reservieren\n\n\n\n\n\n\nWir entführen Sie in die Welt der Küchen-\, Tee- und Heilkräuter rund um den Globus\, sowie Spezialitäten Gemüsesorten. \n\n\n\nWir verbringen den Vormittag mit einer Kräuterführung\, mit Kräuterkunde\, durch unsere Gärtnerei. Geführt durch Daniel Bottlang\, unser Gärtnermeister mit mehr als 30 Jahren Erfahrung in der Aufzucht\, Vermehrung und Anwendungsbereichen von Kräuter- und Heilpflanzen. \n\n\n\nDen Mittag verbringen wir mit einem leichten Mittagessen. Auch am Mittag bleiben wir dem Thema Kräuterkunde treu. Ein Kräutersalat\, frisch zubereitet mit Kräutern aus der Gärtnerei\, ergänzt unseren Mittag. \n\n\n\nAm Nachmittag starten wir in Gruppen mit verschiedenen kleinen “Workshops“. Begleitet werden die Workshops von unseren Experten Theo Keller und Daniel Bottlang. Jeder Teilnehmer kreiert selber viel Intressantes aus Kräutern: Kräutersirup\, Kräutersalbe\, Kräutergetränke\, Wildkräutersalat\, Kräutertinkturen\, Kräutersalze\, sein eigenes Hanföl und vieles mehr.
URL:https://www.bottipflanzen.ch/event/kraeuterkurs-mit-fuehrung-3/
LOCATION:Bottis Kräutergärtnerei\, Grabenmattenstrasse 18\, Stetten\, AG\, 5608
ATTACH;FMTTYPE=image/jpeg:https://www.bottipflanzen.ch/wp-content/uploads/2021/11/annie-spratt-XiWtCLWK5K8-unsplash-scaled.jpg
END:VEVENT
BEGIN:VEVENT
DTSTART;TZID=Europe/Berlin:20260711T093000
DTEND;TZID=Europe/Berlin:20260711T170000
DTSTAMP:20260419T155515
CREATED:20260330T213444Z
LAST-MODIFIED:20260330T213448Z
UID:7550-1783762200-1783789200@www.bottipflanzen.ch
SUMMARY:Kräuterkurs mit Führung
DESCRIPTION:Direkt Reservieren\n\n\n\n\n\n\nWir entführen Sie in die Welt der Küchen-\, Tee- und Heilkräuter rund um den Globus\, sowie Spezialitäten Gemüsesorten. \n\n\n\nWir verbringen den Vormittag mit einer Kräuterführung\, mit Kräuterkunde\, durch unsere Gärtnerei. Geführt durch Daniel Bottlang\, unser Gärtnermeister mit mehr als 30 Jahren Erfahrung in der Aufzucht\, Vermehrung und Anwendungsbereichen von Kräuter- und Heilpflanzen. \n\n\n\nDen Mittag verbringen wir mit einem leichten Mittagessen. Auch am Mittag bleiben wir dem Thema Kräuterkunde treu. Ein Kräutersalat\, frisch zubereitet mit Kräutern aus der Gärtnerei\, ergänzt unseren Mittag. \n\n\n\nAm Nachmittag starten wir in Gruppen mit verschiedenen kleinen “Workshops“. Begleitet werden die Workshops von unseren Experten Theo Keller und Daniel Bottlang. Jeder Teilnehmer kreiert selber viel Intressantes aus Kräutern: Kräutersirup\, Kräutersalbe\, Kräutergetränke\, Wildkräutersalat\, Kräutertinkturen\, Kräutersalze\, sein eigenes Hanföl und vieles mehr.
URL:https://www.bottipflanzen.ch/event/kraeuterkurs-mit-fuehrung-4/
LOCATION:Bottis Kräutergärtnerei\, Grabenmattenstrasse 18\, Stetten\, AG\, 5608
ATTACH;FMTTYPE=image/jpeg:https://www.bottipflanzen.ch/wp-content/uploads/2021/11/annie-spratt-XiWtCLWK5K8-unsplash-scaled.jpg
END:VEVENT
BEGIN:VEVENT
DTSTART;TZID=Europe/Berlin:20260718T093000
DTEND;TZID=Europe/Berlin:20260718T170000
DTSTAMP:20260419T155515
CREATED:20260330T213750Z
LAST-MODIFIED:20260330T213755Z
UID:7552-1784367000-1784394000@www.bottipflanzen.ch
SUMMARY:Kräuterkurs mit Führung
DESCRIPTION:Direkt Reservieren\n\n\n\n\n\n\nWir entführen Sie in die Welt der Küchen-\, Tee- und Heilkräuter rund um den Globus\, sowie Spezialitäten Gemüsesorten. \n\n\n\nWir verbringen den Vormittag mit einer Kräuterführung\, mit Kräuterkunde\, durch unsere Gärtnerei. Geführt durch Daniel Bottlang\, unser Gärtnermeister mit mehr als 30 Jahren Erfahrung in der Aufzucht\, Vermehrung und Anwendungsbereichen von Kräuter- und Heilpflanzen. \n\n\n\nDen Mittag verbringen wir mit einem leichten Mittagessen. Auch am Mittag bleiben wir dem Thema Kräuterkunde treu. Ein Kräutersalat\, frisch zubereitet mit Kräutern aus der Gärtnerei\, ergänzt unseren Mittag. \n\n\n\nAm Nachmittag starten wir in Gruppen mit verschiedenen kleinen “Workshops“. Begleitet werden die Workshops von unseren Experten Theo Keller und Daniel Bottlang. Jeder Teilnehmer kreiert selber viel Intressantes aus Kräutern: Kräutersirup\, Kräutersalbe\, Kräutergetränke\, Wildkräutersalat\, Kräutertinkturen\, Kräutersalze\, sein eigenes Hanföl und vieles mehr.
URL:https://www.bottipflanzen.ch/event/kraeuterkurs-mit-fuehrung-5/
LOCATION:Bottis Kräutergärtnerei\, Grabenmattenstrasse 18\, Stetten\, AG\, 5608
ATTACH;FMTTYPE=image/jpeg:https://www.bottipflanzen.ch/wp-content/uploads/2021/11/annie-spratt-XiWtCLWK5K8-unsplash-scaled.jpg
END:VEVENT
BEGIN:VEVENT
DTSTART;TZID=Europe/Berlin:20260725T093000
DTEND;TZID=Europe/Berlin:20260725T170000
DTSTAMP:20260419T155515
CREATED:20260330T214029Z
LAST-MODIFIED:20260330T214033Z
UID:7554-1784971800-1784998800@www.bottipflanzen.ch
SUMMARY:Kräuterkurs mit Führung
DESCRIPTION:Direkt Reservieren\n\n\n\n\n\n\nWir entführen Sie in die Welt der Küchen-\, Tee- und Heilkräuter rund um den Globus\, sowie Spezialitäten Gemüsesorten. \n\n\n\nWir verbringen den Vormittag mit einer Kräuterführung\, mit Kräuterkunde\, durch unsere Gärtnerei. Geführt durch Daniel Bottlang\, unser Gärtnermeister mit mehr als 30 Jahren Erfahrung in der Aufzucht\, Vermehrung und Anwendungsbereichen von Kräuter- und Heilpflanzen. \n\n\n\nDen Mittag verbringen wir mit einem leichten Mittagessen. Auch am Mittag bleiben wir dem Thema Kräuterkunde treu. Ein Kräutersalat\, frisch zubereitet mit Kräutern aus der Gärtnerei\, ergänzt unseren Mittag. \n\n\n\nAm Nachmittag starten wir in Gruppen mit verschiedenen kleinen “Workshops“. Begleitet werden die Workshops von unseren Experten Theo Keller und Daniel Bottlang. Jeder Teilnehmer kreiert selber viel Intressantes aus Kräutern: Kräutersirup\, Kräutersalbe\, Kräutergetränke\, Wildkräutersalat\, Kräutertinkturen\, Kräutersalze\, sein eigenes Hanföl und vieles mehr.
URL:https://www.bottipflanzen.ch/event/kraeuterkurs-mit-fuehrung-6/
LOCATION:Bottis Kräutergärtnerei\, Grabenmattenstrasse 18\, Stetten\, AG\, 5608
ATTACH;FMTTYPE=image/jpeg:https://www.bottipflanzen.ch/wp-content/uploads/2021/11/annie-spratt-XiWtCLWK5K8-unsplash-scaled.jpg
END:VEVENT
BEGIN:VEVENT
DTSTART;TZID=Europe/Berlin:20260822T093000
DTEND;TZID=Europe/Berlin:20260822T170000
DTSTAMP:20260419T155515
CREATED:20260330T214237Z
LAST-MODIFIED:20260330T214241Z
UID:7556-1787391000-1787418000@www.bottipflanzen.ch
SUMMARY:Kräuterkurs mit Führung
DESCRIPTION:Direkt Reservieren\n\n\n\n\n\n\nWir entführen Sie in die Welt der Küchen-\, Tee- und Heilkräuter rund um den Globus\, sowie Spezialitäten Gemüsesorten. \n\n\n\nWir verbringen den Vormittag mit einer Kräuterführung\, mit Kräuterkunde\, durch unsere Gärtnerei. Geführt durch Daniel Bottlang\, unser Gärtnermeister mit mehr als 30 Jahren Erfahrung in der Aufzucht\, Vermehrung und Anwendungsbereichen von Kräuter- und Heilpflanzen. \n\n\n\nDen Mittag verbringen wir mit einem leichten Mittagessen. Auch am Mittag bleiben wir dem Thema Kräuterkunde treu. Ein Kräutersalat\, frisch zubereitet mit Kräutern aus der Gärtnerei\, ergänzt unseren Mittag. \n\n\n\nAm Nachmittag starten wir in Gruppen mit verschiedenen kleinen “Workshops“. Begleitet werden die Workshops von unseren Experten Theo Keller und Daniel Bottlang. Jeder Teilnehmer kreiert selber viel Intressantes aus Kräutern: Kräutersirup\, Kräutersalbe\, Kräutergetränke\, Wildkräutersalat\, Kräutertinkturen\, Kräutersalze\, sein eigenes Hanföl und vieles mehr.
URL:https://www.bottipflanzen.ch/event/kraeuterkurs-mit-fuehrung-7/
LOCATION:Bottis Kräutergärtnerei\, Grabenmattenstrasse 18\, Stetten\, AG\, 5608
ATTACH;FMTTYPE=image/jpeg:https://www.bottipflanzen.ch/wp-content/uploads/2021/11/annie-spratt-XiWtCLWK5K8-unsplash-scaled.jpg
END:VEVENT
BEGIN:VEVENT
DTSTART;TZID=Europe/Berlin:20260829T093000
DTEND;TZID=Europe/Berlin:20260829T170000
DTSTAMP:20260419T155515
CREATED:20260330T214451Z
LAST-MODIFIED:20260330T215104Z
UID:7558-1787995800-1788022800@www.bottipflanzen.ch
SUMMARY:Kräuterkurs mit Führung
DESCRIPTION:Direkt Reservieren\n\n\n\n\n\n\nWir entführen Sie in die Welt der Küchen-\, Tee- und Heilkräuter rund um den Globus\, sowie Spezialitäten Gemüsesorten. \n\n\n\nWir verbringen den Vormittag mit einer Kräuterführung\, mit Kräuterkunde\, durch unsere Gärtnerei. Geführt durch Daniel Bottlang\, unser Gärtnermeister mit mehr als 30 Jahren Erfahrung in der Aufzucht\, Vermehrung und Anwendungsbereichen von Kräuter- und Heilpflanzen. \n\n\n\nDen Mittag verbringen wir mit einem leichten Mittagessen. Auch am Mittag bleiben wir dem Thema Kräuterkunde treu. Ein Kräutersalat\, frisch zubereitet mit Kräutern aus der Gärtnerei\, ergänzt unseren Mittag. \n\n\n\nAm Nachmittag starten wir in Gruppen mit verschiedenen kleinen “Workshops“. Begleitet werden die Workshops von unseren Experten Theo Keller und Daniel Bottlang. Jeder Teilnehmer kreiert selber viel Intressantes aus Kräutern: Kräutersirup\, Kräutersalbe\, Kräutergetränke\, Wildkräutersalat\, Kräutertinkturen\, Kräutersalze\, sein eigenes Hanföl und vieles mehr.
URL:https://www.bottipflanzen.ch/event/kraeuterkurs-mit-fuehrung-8/
LOCATION:Bottis Kräutergärtnerei\, Grabenmattenstrasse 18\, Stetten\, AG\, 5608
CATEGORIES:Kurse 2026
ATTACH;FMTTYPE=image/jpeg:https://www.bottipflanzen.ch/wp-content/uploads/2021/11/annie-spratt-XiWtCLWK5K8-unsplash-scaled.jpg
END:VEVENT
END:VCALENDAR